BEGIN:VCALENDAR
VERSION:2.0
PRODID:-//wp-events-plugin.com//7.2.3.1//EN
TZID:America/Los_Angeles
X-WR-TIMEZONE:America/Los_Angeles
BEGIN:VEVENT
UID:362@escience.washington.edu
DTSTART;TZID=America/Los_Angeles:20260617T090000
DTEND;TZID=America/Los_Angeles:20260617T120000
DTSTAMP:20260420T041401Z
URL:https://escience.washington.edu/events/coding-with-ai-agents-a-hands-o
 n-workshop-for-researchers/
SUMMARY:Coding with AI Agents: A Hands-On Workshop for Researchers
DESCRIPTION:AI coding agents are reshaping software development practice at
  a pace that presents particular challenges for the research community. Ex
 isting resources are frequently fragmented\, hype-driven\, and rarely tail
 ored to scientific research contexts. This workshop addresses that gap by 
 providing researchers and research software engineers with a rigorous\, pr
 actical introduction to AI coding agents and their application to research
  software engineering workflows.\nThe session is organized into four block
 s: an overview of the current AI coding agent ecosystem and tool selection
  considerations\; a conceptual primer on how large language models are pos
 t-trained to support tool calling\, planning\, and iterative code generati
 on\; a live demonstration of an agent executing a complete research-plan-i
 mplement cycle aligned with Scientific Python community guidelines\; and a
  guided hands-on exercise in which participants construct a simple agent t
 hemselves.\nThe workshop prioritizes conceptual understanding over familia
 rity with any single platform\, equipping attendees to evaluate emerging t
 ools independently as the field evolves. Common failure modes in agent-ass
 isted development are addressed explicitly\, alongside practical mitigatio
 n strategies. No prior background in artificial intelligence or machine le
 arning is required. Participants are expected to bring a laptop with termi
 nal access and an active GitHub account.
ATTACH;FMTTYPE=image/jpeg:https://escience.washington.edu/wp-content/uploa
 ds/2025/09/IMG_2941-scaled-e1758747581357.jpg
LOCATION:eScience Institute\, WRF Data Science Studio\, UW Physics/Astronom
 y Tower\, 6th Floor\, Seattle\, Washington\, 98195\, United States
X-APPLE-STRUCTURED-LOCATION;VALUE=URI;X-ADDRESS=WRF Data Science Studio\, U
 W Physics/Astronomy Tower\, 6th Floor\, Seattle\, Washington\, 98195\, Uni
 ted States;X-APPLE-RADIUS=100;X-TITLE=eScience Institute:geo:0,0
END:VEVENT
BEGIN:VTIMEZONE
TZID:America/Los_Angeles
X-LIC-LOCATION:America/Los_Angeles
BEGIN:DAYLIGHT
DTSTART:20260308T030000
TZOFFSETFROM:-0800
TZOFFSETTO:-0700
TZNAME:PDT
END:DAYLIGHT
END:VTIMEZONE
END:VCALENDAR