BEGIN:VCALENDAR
VERSION:2.0
PRODID:-//wp-events-plugin.com//7.2.3.1//EN
TZID:America/Los_Angeles
X-WR-TIMEZONE:America/Los_Angeles
BEGIN:VEVENT
UID:274@escience.washington.edu
DTSTART;TZID=America/Los_Angeles:20250717T100000
DTEND;TZID=America/Los_Angeles:20250717T100000
DTSTAMP:20250707T174117Z
URL:https://escience.washington.edu/events/cloud-clinic-object-storage/
SUMMARY:Cloud Clinic: Object Storage
DESCRIPTION:Sure object storage has a virtually unlimited capacity\; but wh
 at are the modes of access to be aware of? We will review connecting objec
 t storage to research workflow: Whether on a local computer or from a clou
 d Virtual Machine on Thursday July 17th at 10:00 a.m.\n\nJoin us on 
ATTACH;FMTTYPE=image/jpeg:https://escience.washington.edu/wp-content/uploa
 ds/2020/09/cloudbank-logo-jpg-1-1.jpg
END:VEVENT
BEGIN:VTIMEZONE
TZID:America/Los_Angeles
X-LIC-LOCATION:America/Los_Angeles
BEGIN:DAYLIGHT
DTSTART:20250309T030000
TZOFFSETFROM:-0800
TZOFFSETTO:-0700
TZNAME:PDT
END:DAYLIGHT
END:VTIMEZONE
END:VCALENDAR