BEGIN:VCALENDAR
VERSION:2.0
PRODID:-//wp-events-plugin.com//7.2.3.1//EN
TZID:America/Los_Angeles
X-WR-TIMEZONE:America/Los_Angeles
BEGIN:VEVENT
UID:71@escience.washington.edu
DTSTART;TZID=America/Los_Angeles:20240201T150000
DTEND;TZID=America/Los_Angeles:20240201T160000
DTSTAMP:20240125T165747Z
URL:https://escience.washington.edu/events/aws-cloud-seminar/
SUMMARY:AWS Cloud Seminar
DESCRIPTION:UW’s Amazon Web Services (AWS) team is hosting a seminar with
  Senior Solutions Architect Joel Morgan\, who will walk us through the new
  services and technologies coming to the AWS cloud in 2024. We'll review h
 ow to make use of these new services to further your research and IT infra
 structure\, and be available for any questions or consultation needs you m
 ight have.\n\nTuesday\, February 1st\, from 3:00 to 4:00 PM\, with happy h
 our to follow.\n\nThe WRF Data Science Studio is located on the 6th floor 
 of the Physics/Astronomy Tower on the UW campus:\nWRF Data Science Studio 
 campus map\n
LOCATION:eScience Institute WRF Data Science Studio\, 3910 15th Ave NE\, Se
 attle\, WA\, 98195\, United States
X-APPLE-STRUCTURED-LOCATION;VALUE=URI;X-ADDRESS=3910 15th Ave NE\, Seattle\
 , WA\, 98195\, United States;X-APPLE-RADIUS=100;X-TITLE=eScience Institute
  WRF Data Science Studio:geo:0,0
END:VEVENT
BEGIN:VTIMEZONE
TZID:America/Los_Angeles
X-LIC-LOCATION:America/Los_Angeles
BEGIN:STANDARD
DTSTART:20231105T010000
TZOFFSETFROM:-0700
TZOFFSETTO:-0800
TZNAME:PST
END:STANDARD
END:VTIMEZONE
END:VCALENDAR